BEGIN:VCALENDAR
VERSION:2.0
PRODID:spatie/icalendar-generator
DESCRIPTION:Veranstaltungen von Würfelpech e.V.
X-WR-CALDESC:Veranstaltungen von Würfelpech e.V.
REFRESH-INTERVAL;VALUE=DURATION:PT1440M
X-PUBLISHED-TTL:PT1440M
BEGIN:VTIMEZONE
TZID:Europe/Berlin
BEGIN:STANDARD
DTSTART:20251026T030000Z
TZOFFSETFROM:+0200
TZOFFSETTO:+0100
END:STANDARD
BEGIN:DAYLIGHT
DTSTART:20260329T020000Z
TZOFFSETFROM:+0100
TZOFFSETTO:+0200
END:DAYLIGHT
END:VTIMEZONE
BEGIN:VTIMEZONE
TZID:UTC
BEGIN:STANDARD
DTSTART:20250724T152547Z
TZOFFSETFROM:+0000
TZOFFSETTO:+0000
END:STANDARD
END:VTIMEZONE
BEGIN:VEVENT
UID:1303-98
DTSTAMP:20260420T152547Z
SUMMARY:Spielleiterworkshop für Neueinsteiger
LOCATION:Würfelpech e.V. Vereinsheim Hardenbergstraße 23  Halle (Saale) S
 achsen-Anhalt 06124
ORGANIZER;CN=Chrissi:MAILTO:chrissi@wuerfelpech-halle.de
DTSTART;TZID=Europe/Berlin:20260419T140000
DTEND;TZID=Europe/Berlin:20260419T180000
X-ALT-DESC;FMTTYPE=TEXT/HTML:Spielleiterworkshop für Neueinsteiger 19.4.\,
  14-18 Uhr. Wer mitmachen möchte bitte vorab melden. Richtig\, wir machen
  eine neue Workshopreihe zum Thema Einstieg in Spielleiten! Pen&amp;amp\;Paper
  Rollenspiele sind ein wunderbares Hobby in dem man als Gruppe Abenteuer e
 rlebt und gemeinsam die Zeit seines Lebens hat. Doch ganz so einfach ist e
 s nicht. Einer der Spielenden muss sich&amp;hellip\;
CATEGORIES:Pen&amp;Paper Rollenspiel
URL;VALUE=URI:https://wuerfelpech-halle.de/mc-events/spielleiterworkshop-fu
 er-neueinsteiger/
METHOD:PUBLISH
END:VEVENT
END:VCALENDAR