BEGIN:VCALENDAR
VERSION:2.0
PRODID:spatie/icalendar-generator
DESCRIPTION:Veranstaltungen von Würfelpech e.V.
X-WR-CALDESC:Veranstaltungen von Würfelpech e.V.
REFRESH-INTERVAL;VALUE=DURATION:PT1440M
X-PUBLISHED-TTL:PT1440M
BEGIN:VTIMEZONE
TZID:Europe/Berlin
BEGIN:STANDARD
DTSTART:20251026T030000Z
TZOFFSETFROM:+0200
TZOFFSETTO:+0100
END:STANDARD
BEGIN:DAYLIGHT
DTSTART:20260329T020000Z
TZOFFSETFROM:+0100
TZOFFSETTO:+0200
END:DAYLIGHT
BEGIN:STANDARD
DTSTART:20261025T030000Z
TZOFFSETFROM:+0200
TZOFFSETTO:+0100
END:STANDARD
END:VTIMEZONE
BEGIN:VTIMEZONE
TZID:UTC
BEGIN:STANDARD
DTSTART:20250724T153620Z
TZOFFSETFROM:+0000
TZOFFSETTO:+0000
END:STANDARD
END:VTIMEZONE
BEGIN:VEVENT
UID:840-14
DTSTAMP:20260420T153620Z
SUMMARY:Tag der Spielearchäologie
LOCATION:Würfelpech e.V. Vereinsheim Hardenbergstraße 23  Halle (Saale) S
 achsen-Anhalt 06124
ORGANIZER;CN=Paul Henßge:MAILTO:Paul-H@wuerfelpech-halle.de
RRULE:FREQ=MONTHLY;BYDAY=4SA;UNTIL=20270828T000000Z
DTSTART;TZID=Europe/Berlin:20260425T130000
DTEND;TZID=Europe/Berlin:20260425T174500
X-ALT-DESC;FMTTYPE=TEXT/HTML:Bei uns gibt es sehr\, sehr viele Brettspiele.
  Teilweise zu viele\, denn ein ganzer Haufen wird einfach nie gespielt. Ma
 n muss die Regeln lesen und verstehen\, Leute finden\, die darauf jetzt au
 ch Bock haben und vielleicht ist es am Ende ja nicht mal gut. Da spielt ma
 n doch lieber was man kennt und mag. Dieser&amp;hellip\;
CATEGORIES:Brettspiel
URL;VALUE=URI:https://wuerfelpech-halle.de/mc-events/tag-der-spielearchaeol
 ogie/?mc_id=840
METHOD:PUBLISH
END:VEVENT
END:VCALENDAR