BEGIN:VCALENDAR
VERSION:2.0
PRODID:spatie/icalendar-generator
DESCRIPTION:Veranstaltungen von Würfelpech e.V.
X-WR-CALDESC:Veranstaltungen von Würfelpech e.V.
REFRESH-INTERVAL;VALUE=DURATION:PT1440M
X-PUBLISHED-TTL:PT1440M
BEGIN:VTIMEZONE
TZID:Europe/Berlin
BEGIN:STANDARD
DTSTART:20251026T030000Z
TZOFFSETFROM:+0200
TZOFFSETTO:+0100
END:STANDARD
BEGIN:DAYLIGHT
DTSTART:20260329T020000Z
TZOFFSETFROM:+0100
TZOFFSETTO:+0200
END:DAYLIGHT
BEGIN:STANDARD
DTSTART:20261025T030000Z
TZOFFSETFROM:+0200
TZOFFSETTO:+0100
END:STANDARD
END:VTIMEZONE
BEGIN:VTIMEZONE
TZID:UTC
BEGIN:STANDARD
DTSTART:20250724T194736Z
TZOFFSETFROM:+0000
TZOFFSETTO:+0000
END:STANDARD
END:VTIMEZONE
BEGIN:VEVENT
UID:478-7
DTSTAMP:20260420T194736Z
SUMMARY:Spielecafé
LOCATION:Würfelpech e.V. Vereinsheim Hardenbergstraße 23  Halle (Saale) S
 achsen-Anhalt 06124
ORGANIZER;CN=admin:MAILTO:l.dombrowka@gmx.de
RRULE:FREQ=MONTHLY;BYDAY=1SU;UNTIL=20270905T000000Z
DTSTART;TZID=Europe/Berlin:20260503T140000
DTEND;TZID=Europe/Berlin:20260503T200000
X-ALT-DESC;FMTTYPE=TEXT/HTML:<p>Die ideale Einsteigerveranstaltung mit grat
 is Kuchen und Kaffee und vielen spielewilligen Leuten.</p>\n
CATEGORIES:Brettspiel
URL;VALUE=URI:https://wuerfelpech-halle.de/mc-events/spielecafe/?mc_id=478
METHOD:PUBLISH
END:VEVENT
END:VCALENDAR