BEGIN:VCALENDAR
VERSION:2.0
PRODID:spatie/icalendar-generator
DESCRIPTION:Veranstaltungen von Würfelpech e.V.
X-WR-CALDESC:Veranstaltungen von Würfelpech e.V.
REFRESH-INTERVAL;VALUE=DURATION:PT1440M
X-PUBLISHED-TTL:PT1440M
BEGIN:VTIMEZONE
TZID:Europe/Berlin
BEGIN:DAYLIGHT
DTSTART:20250330T020000Z
TZOFFSETFROM:+0100
TZOFFSETTO:+0200
END:DAYLIGHT
BEGIN:STANDARD
DTSTART:20251026T030000Z
TZOFFSETFROM:+0200
TZOFFSETTO:+0100
END:STANDARD
BEGIN:DAYLIGHT
DTSTART:20260329T020000Z
TZOFFSETFROM:+0100
TZOFFSETTO:+0200
END:DAYLIGHT
END:VTIMEZONE
BEGIN:VTIMEZONE
TZID:UTC
BEGIN:STANDARD
DTSTART:20250724T141931Z
TZOFFSETFROM:+0000
TZOFFSETTO:+0000
END:STANDARD
END:VTIMEZONE
BEGIN:VEVENT
UID:365-4
DTSTAMP:20260420T141931Z
SUMMARY:Magic the Gathering - Commanderabend
LOCATION:Würfelpech e.V. Vereinsheim Hardenbergstraße 23  Halle (Saale) S
 achsen-Anhalt 06124
ORGANIZER;CN=admin:MAILTO:l.dombrowka@gmx.de
RRULE:FREQ=WEEKLY;UNTIL=20270924T000000Z
DTSTART;TZID=Europe/Berlin:20250926T180000
DTEND;TZID=Europe/Berlin:20250926T233000
X-ALT-DESC;FMTTYPE=TEXT/HTML:<p>Wir spielen Magic the Gathering Commander u
 nd Highlander.</p>\n
CATEGORIES:Kartenspiel
URL;VALUE=URI:https://wuerfelpech-halle.de/mc-events/magic-the-gathering-co
 mmanderabend/?mc_id=365
METHOD:PUBLISH
END:VEVENT
END:VCALENDAR