BEGIN:VCALENDAR
VERSION:2.0
PRODID:spatie/icalendar-generator
DESCRIPTION:Veranstaltungen von Würfelpech e.V.
X-WR-CALDESC:Veranstaltungen von Würfelpech e.V.
REFRESH-INTERVAL;VALUE=DURATION:PT1440M
X-PUBLISHED-TTL:PT1440M
BEGIN:VTIMEZONE
TZID:Europe/Berlin
BEGIN:STANDARD
DTSTART:20251026T030000Z
TZOFFSETFROM:+0200
TZOFFSETTO:+0100
END:STANDARD
BEGIN:DAYLIGHT
DTSTART:20260329T020000Z
TZOFFSETFROM:+0100
TZOFFSETTO:+0200
END:DAYLIGHT
END:VTIMEZONE
BEGIN:VTIMEZONE
TZID:UTC
BEGIN:STANDARD
DTSTART:20250724T152547Z
TZOFFSETFROM:+0000
TZOFFSETTO:+0000
END:STANDARD
END:VTIMEZONE
BEGIN:VEVENT
UID:1283-72
DTSTAMP:20260420T152547Z
SUMMARY:1002 Rollenspiel
LOCATION:Würfelpech e.V. Vereinsheim Hardenbergstraße 23  Halle (Saale) S
 achsen-Anhalt 06124
ORGANIZER;CN=Chrissi:MAILTO:chrissi@wuerfelpech-halle.de
RRULE:FREQ=MONTHLY;BYDAY=2SA;UNTIL=20251108T000000Z
DTSTART;TZID=Europe/Berlin:20260411T180000
DTEND;TZID=Europe/Berlin:20260411T235500
X-ALT-DESC;FMTTYPE=TEXT/HTML:Für alle Pen&amp;amp\;Paper Rollenspielinteressie
 rten bieten wir darum einmal im Monat 1001 Rollenspiele an. Geleitet von e
 rfahrenen SpielleiterInnen aus dem Verein könnt ihr sowohl als komplette 
 Neulinge als auch als Veteranen\, die nach Abwechselung und neuen Runden s
 uchen\, bei uns einfach dazu kommen und mitspielen.
CATEGORIES:Pen&amp;Paper Rollenspiel
URL;VALUE=URI:https://wuerfelpech-halle.de/mc-events/1002-rollenspiel-3/?mc
 _id=1283
METHOD:PUBLISH
END:VEVENT
END:VCALENDAR