BEGIN:VCALENDAR
VERSION:2.0
PRODID:spatie/icalendar-generator
DESCRIPTION:Veranstaltungen von Würfelpech e.V.
X-WR-CALDESC:Veranstaltungen von Würfelpech e.V.
REFRESH-INTERVAL;VALUE=DURATION:PT1440M
X-PUBLISHED-TTL:PT1440M
BEGIN:VTIMEZONE
TZID:Europe/Berlin
BEGIN:STANDARD
DTSTART:20251026T030000Z
TZOFFSETFROM:+0200
TZOFFSETTO:+0100
END:STANDARD
BEGIN:DAYLIGHT
DTSTART:20260329T020000Z
TZOFFSETFROM:+0100
TZOFFSETTO:+0200
END:DAYLIGHT
BEGIN:STANDARD
DTSTART:20261025T030000Z
TZOFFSETFROM:+0200
TZOFFSETTO:+0100
END:STANDARD
END:VTIMEZONE
BEGIN:VTIMEZONE
TZID:UTC
BEGIN:STANDARD
DTSTART:20250724T213109Z
TZOFFSETFROM:+0000
TZOFFSETTO:+0000
END:STANDARD
END:VTIMEZONE
BEGIN:VEVENT
UID:1234-67
DTSTAMP:20260420T213109Z
SUMMARY:Tabletop
LOCATION:Würfelpech e.V. Vereinsheim Hardenbergstraße 23  Halle (Saale) S
 achsen-Anhalt 06124
ORGANIZER;CN=Chrissi:MAILTO:chrissi@wuerfelpech-halle.de
RRULE:FREQ=WEEKLY;UNTIL=20261230T000000Z
DTSTART;TZID=Europe/Berlin:20260504T150000
DTEND;TZID=Europe/Berlin:20260504T230000
X-ALT-DESC;FMTTYPE=TEXT/HTML:
CATEGORIES:Tabletop
URL;VALUE=URI:https://wuerfelpech-halle.de/mc-events/tabletop/?mc_id=1234
METHOD:PUBLISH
END:VEVENT
END:VCALENDAR