BEGIN:VCALENDAR
VERSION:2.0
PRODID:spatie/icalendar-generator
DESCRIPTION:Veranstaltungen von Würfelpech e.V.
X-WR-CALDESC:Veranstaltungen von Würfelpech e.V.
REFRESH-INTERVAL;VALUE=DURATION:PT1440M
X-PUBLISHED-TTL:PT1440M
BEGIN:VTIMEZONE
TZID:Europe/Berlin
BEGIN:STANDARD
DTSTART:20251026T030000Z
TZOFFSETFROM:+0200
TZOFFSETTO:+0100
END:STANDARD
BEGIN:DAYLIGHT
DTSTART:20260329T020000Z
TZOFFSETFROM:+0100
TZOFFSETTO:+0200
END:DAYLIGHT
END:VTIMEZONE
BEGIN:VTIMEZONE
TZID:UTC
BEGIN:STANDARD
DTSTART:20250724T141639Z
TZOFFSETFROM:+0000
TZOFFSETTO:+0000
END:STANDARD
END:VTIMEZONE
BEGIN:VEVENT
UID:1148-79
DTSTAMP:20260420T141639Z
SUMMARY:Chat &amp;amp\; Create
LOCATION:Würfelpech e.V. Vereinsheim Hardenbergstraße 23  Halle (Saale) S
 achsen-Anhalt 06124
ORGANIZER;CN=Chrissi:MAILTO:chrissi@wuerfelpech-halle.de
RRULE:FREQ=WEEKLY;UNTIL=20261218T000000Z
DTSTART;TZID=Europe/Berlin:20260219T180000
DTEND;TZID=Europe/Berlin:20260219T220000
X-ALT-DESC;FMTTYPE=TEXT/HTML:Bastel in Beisammensein mit anderen Kreativen 
 an deinem persönlichen Projekt - Figuren\, Gelände\, Basteln\, Zeichnen\
 , Nähen und was sonst so in eurer Schublade liegt.
CATEGORIES:Allgemein
URL;VALUE=URI:https://wuerfelpech-halle.de/mc-events/chat-create-2/?mc_id=1
 148
METHOD:PUBLISH
END:VEVENT
END:VCALENDAR