BEGIN:VCALENDAR
VERSION:2.0
PRODID:spatie/icalendar-generator
DESCRIPTION:Veranstaltungen von Würfelpech e.V.
X-WR-CALDESC:Veranstaltungen von Würfelpech e.V.
REFRESH-INTERVAL;VALUE=DURATION:PT1440M
X-PUBLISHED-TTL:PT1440M
BEGIN:VTIMEZONE
TZID:Europe/Berlin
BEGIN:STANDARD
DTSTART:20251026T030000Z
TZOFFSETFROM:+0200
TZOFFSETTO:+0100
END:STANDARD
BEGIN:DAYLIGHT
DTSTART:20260329T020000Z
TZOFFSETFROM:+0100
TZOFFSETTO:+0200
END:DAYLIGHT
END:VTIMEZONE
BEGIN:VTIMEZONE
TZID:UTC
BEGIN:STANDARD
DTSTART:20250724T124420Z
TZOFFSETFROM:+0000
TZOFFSETTO:+0000
END:STANDARD
END:VTIMEZONE
BEGIN:VEVENT
UID:798-6
DTSTAMP:20260420T124420Z
SUMMARY:1001 Rollenspiele
LOCATION:Würfelpech e.V. Vereinsheim Hardenbergstraße 23  Halle (Saale) S
 achsen-Anhalt 06124
ORGANIZER;CN=admin:MAILTO:l.dombrowka@gmx.de
RRULE:FREQ=MONTHLY;BYDAY=4SA;UNTIL=20270925T000000Z
DTSTART;TZID=Europe/Berlin:20260228T180000
DTEND;TZID=Europe/Berlin:20260228T235500
X-ALT-DESC;FMTTYPE=TEXT/HTML:<p>Für alle Pen&amp;amp\;Paper Rollenspielinteres
 sierten bieten wir darum einmal im Monat 1001 Rollenspiele an. Geleitet vo
 n erfahrenen SpielleiterInnen aus dem Verein könnt ihr sowohl als komplet
 te Neulinge als auch als Veteranen\, die nach Abwechselung und neuen Runde
 n suchen\, bei uns einfach dazu kommen und mitspielen.</p>\n
CATEGORIES:Pen&amp;Paper Rollenspiel
URL;VALUE=URI:https://wuerfelpech-halle.de/mc-events/1001-rollenspiele/?mc_
 id=798
METHOD:PUBLISH
END:VEVENT
END:VCALENDAR